Workbook

Sheet Input
A1: Product | B1: PY volume (units) | C1: PY net sales | D1: CY volume (units) | E1: CY net sales | F1: PY price/unit | G1: CY price/unit | H1: Status | I1: Volume effect | J1: Mix effect | K1: Price effect | L1: New | M1: Lost
A2: Dish soap 500 ml | B2: 41000 | C2: 149000 | D2: 44500 | E2: 158000 | F2: =IF(B2>0,C2/B2,0) | G2: =IF(D2>0,E2/D2,0) | H2: =IF(AND(B2>0,D2>0),"",IF(D2>0,"NEW",IF(B2>0,"LOST","NO VOLUME"))) | I2: =IF(AND(B2>0,D2>0),(D2-B2)*Bridge!$B$2,0) | J2: =IF(AND(B2>0,D2>0),D2*(F2-Bridge!$B$2),0) | K2: =IF(AND(B2>0,D2>0),(G2-F2)*D2,0) | L2: =IF(AND(B2=0,D2>0),E2,0) | M2: =IF(AND(B2>0,D2=0),-C2,0)
A3: Laundry liquid 1.5 l | B3: 26000 | C3: 112000 | D3: 27500 | E3: 121500 | F3: =IF(B3>0,C3/B3,0) | G3: =IF(D3>0,E3/D3,0) | H3: =IF(AND(B3>0,D3>0),"",IF(D3>0,"NEW",IF(B3>0,"LOST","NO VOLUME"))) | I3: =IF(AND(B3>0,D3>0),(D3-B3)*Bridge!$B$2,0) | J3: =IF(AND(B3>0,D3>0),D3*(F3-Bridge!$B$2),0) | K3: =IF(AND(B3>0,D3>0),(G3-F3)*D3,0) | L3: =IF(AND(B3=0,D3>0),E3,0) | M3: =IF(AND(B3>0,D3=0),-C3,0)
A4: Hand soap 250 ml | B4: 18000 | C4: 83000 | D4: 16200 | E4: 76000 | F4: =IF(B4>0,C4/B4,0) | G4: =IF(D4>0,E4/D4,0) | H4: =IF(AND(B4>0,D4>0),"",IF(D4>0,"NEW",IF(B4>0,"LOST","NO VOLUME"))) | I4: =IF(AND(B4>0,D4>0),(D4-B4)*Bridge!$B$2,0) | J4: =IF(AND(B4>0,D4>0),D4*(F4-Bridge!$B$2),0) | K4: =IF(AND(B4>0,D4>0),(G4-F4)*D4,0) | L4: =IF(AND(B4=0,D4>0),E4,0) | M4: =IF(AND(B4>0,D4=0),-C4,0)
A5: Shower gel 250 ml | B5: 52000 | C5: 141000 | D5: 55500 | E5: 149000 | F5: =IF(B5>0,C5/B5,0) | G5: =IF(D5>0,E5/D5,0) | H5: =IF(AND(B5>0,D5>0),"",IF(D5>0,"NEW",IF(B5>0,"LOST","NO VOLUME"))) | I5: =IF(AND(B5>0,D5>0),(D5-B5)*Bridge!$B$2,0) | J5: =IF(AND(B5>0,D5>0),D5*(F5-Bridge!$B$2),0) | K5: =IF(AND(B5>0,D5>0),(G5-F5)*D5,0) | L5: =IF(AND(B5=0,D5>0),E5,0) | M5: =IF(AND(B5>0,D5=0),-C5,0)
A6: Shampoo 400 ml | B6: 33000 | C6: 92000 | D6: 36000 | E6: 98500 | F6: =IF(B6>0,C6/B6,0) | G6: =IF(D6>0,E6/D6,0) | H6: =IF(AND(B6>0,D6>0),"",IF(D6>0,"NEW",IF(B6>0,"LOST","NO VOLUME"))) | I6: =IF(AND(B6>0,D6>0),(D6-B6)*Bridge!$B$2,0) | J6: =IF(AND(B6>0,D6>0),D6*(F6-Bridge!$B$2),0) | K6: =IF(AND(B6>0,D6>0),(G6-F6)*D6,0) | L6: =IF(AND(B6=0,D6>0),E6,0) | M6: =IF(AND(B6>0,D6=0),-C6,0)
A7: Toothpaste 75 ml | B7: 21000 | C7: 60500 | D7: 23500 | E7: 69000 | F7: =IF(B7>0,C7/B7,0) | G7: =IF(D7>0,E7/D7,0) | H7: =IF(AND(B7>0,D7>0),"",IF(D7>0,"NEW",IF(B7>0,"LOST","NO VOLUME"))) | I7: =IF(AND(B7>0,D7>0),(D7-B7)*Bridge!$B$2,0) | J7: =IF(AND(B7>0,D7>0),D7*(F7-Bridge!$B$2),0) | K7: =IF(AND(B7>0,D7>0),(G7-F7)*D7,0) | L7: =IF(AND(B7=0,D7>0),E7,0) | M7: =IF(AND(B7>0,D7=0),-C7,0)
A8: Kitchen cleaner 750 ml | B8: 0 | C8: 0 | D8: 6200 | E8: 41000 | F8: =IF(B8>0,C8/B8,0) | G8: =IF(D8>0,E8/D8,0) | H8: =IF(AND(B8>0,D8>0),"",IF(D8>0,"NEW",IF(B8>0,"LOST","NO VOLUME"))) | I8: =IF(AND(B8>0,D8>0),(D8-B8)*Bridge!$B$2,0) | J8: =IF(AND(B8>0,D8>0),D8*(F8-Bridge!$B$2),0) | K8: =IF(AND(B8>0,D8>0),(G8-F8)*D8,0) | L8: =IF(AND(B8=0,D8>0),E8,0) | M8: =IF(AND(B8>0,D8=0),-C8,0)
A9: Glass cleaner 500 ml | B9: 9500 | C9: 39500 | D9: 0 | E9: 0 | F9: =IF(B9>0,C9/B9,0) | G9: =IF(D9>0,E9/D9,0) | H9: =IF(AND(B9>0,D9>0),"",IF(D9>0,"NEW",IF(B9>0,"LOST","NO VOLUME"))) | I9: =IF(AND(B9>0,D9>0),(D9-B9)*Bridge!$B$2,0) | J9: =IF(AND(B9>0,D9>0),D9*(F9-Bridge!$B$2),0) | K9: =IF(AND(B9>0,D9>0),(G9-F9)*D9,0) | L9: =IF(AND(B9=0,D9>0),E9,0) | M9: =IF(AND(B9>0,D9=0),-C9,0)

Sheet Bridge
A1: Bridge (change in net sales) | B1: Amount
A2: PY average price (products sold in both years) | B2: =SUMIFS(Input!C:C,Input!B:B,">0",Input!D:D,">0")/SUMIFS(Input!B:B,Input!B:B,">0",Input!D:D,">0")
A4: PY net sales | B4: =SUM(Input!C:C)
A5: Volume | B5: =SUM(Input!I:I)
A6: Mix | B6: =SUM(Input!J:J)
A7: Price | B7: =SUM(Input!K:K)
A8: New | B8: =SUM(Input!L:L)
A9: Lost | B9: =SUM(Input!M:M)
A10: Not split (should be 0) | B10: =B11-B4-(B5+B6+B7+B8+B9)
A11: CY net sales | B11: =SUM(Input!E:E)

Sheet Read me
A1: Price / Volume / Mix bridge — how to use this
A3: 1. One row per product. Enter prior-year (PY) and current-year (CY) volume and net sales; prices and the effects compute themselves.
A4: 2. A product with no PY volume is NEW; one with no CY volume is LOST. The status column flags both.
A5: 3. The Bridge sheet reconciles: PY net sales + volume + mix + price + new + lost + not split = CY net sales. "Not split" should read 0; if it does not, a row has net sales without volume in one of the years.
A6: 4. Method note: volume = change in units of continuing products at the PY average price; mix = CY units at each product's PY price less the PY average price; price = (CY price - PY price) on CY units. The three add up to the change in continuing products' sales in total, not row by row. State the convention when you present the numbers.
A9: Made by Orkestar (orkestar.eu), which builds this analysis into live systems on your own data: write to support@orkestar.eu.
